BEGIN:VCALENDAR
VERSION:2.0
PRODID:-//Marktapotheke Alzey - ECPv5.3.1.1//NONSGML v1.0//EN
CALSCALE:GREGORIAN
METHOD:PUBLISH
X-WR-CALNAME:Marktapotheke Alzey
X-ORIGINAL-URL:https://www.marktapotheke-alzey.de
X-WR-CALDESC:Veranstaltungen für Marktapotheke Alzey
BEGIN:VTIMEZONE
TZID:Europe/Berlin
BEGIN:DAYLIGHT
TZOFFSETFROM:+0100
TZOFFSETTO:+0200
TZNAME:CEST
DTSTART:20150329T010000
END:DAYLIGHT
BEGIN:STANDARD
TZOFFSETFROM:+0200
TZOFFSETTO:+0100
TZNAME:CET
DTSTART:20151025T010000
END:STANDARD
END:VTIMEZONE
BEGIN:VEVENT
DTSTART;TZID=Europe/Berlin:20150310T190000
DTEND;TZID=Europe/Berlin:20150310T210000
DTSTAMP:20260420T104914
CREATED:20141212T125258Z
LAST-MODIFIED:20141212T125258Z
UID:552-1426014000-1426021200@www.marktapotheke-alzey.de
SUMMARY:Vortragsabend: “Homöopathie für Kinder“
DESCRIPTION:Dienstag\, 10. März 2015 19.00 Uhr\nVortragsabend: “Homöopathie für Kinder“\nFieberhafte Erkältung – natürlich am Wochenende oder an Feiertagen\, aufgeschlagenes Knie\, Insektenstich oder Übelkeit!\nSchön\, wenn man dann schnell ein sanftes aber wirksames Mittel zur Hand hat\, das kindgerecht ist und vom Kind auch akzeptiert\nwird. Im Laufe des 90-minütigen Vortrags erfahren Sie viel über die Grundlagen und Möglichkeiten der Homöopathie für ihr Kind – einfache Mittel und Ratschläge\, die Sie sofort anwenden können. \nLassen Sie sich diesen beliebten Vortrag nicht entgehen und melden Sie sich gleich an! \nTel. 06731-8442\, Fax 06731-6623\, E-mail: markt-apotheke@gmx.de
URL:https://www.marktapotheke-alzey.de/veranstaltungstermin/vortragsabend-homoeopathie-fuer-kinder
LOCATION:Markt-Apotheke\, Antoniterstraße 2\, Alzey\, Rheinland-Pfalz\, 55232 \, Deutschland
CATEGORIES:Vortrag
ORGANIZER;CN="Marktapotheke":MAILTO:markt-apotheke@gmx.de
END:VEVENT
END:VCALENDAR