BEGIN:VCALENDAR
VERSION:2.0
PRODID:-//Marktapotheke Alzey - ECPv5.3.1.1//NONSGML v1.0//EN
CALSCALE:GREGORIAN
METHOD:PUBLISH
X-WR-CALNAME:Marktapotheke Alzey
X-ORIGINAL-URL:https://www.marktapotheke-alzey.de
X-WR-CALDESC:Veranstaltungen für Marktapotheke Alzey
BEGIN:VTIMEZONE
TZID:Europe/Berlin
BEGIN:DAYLIGHT
TZOFFSETFROM:+0100
TZOFFSETTO:+0200
TZNAME:CEST
DTSTART:20150329T010000
END:DAYLIGHT
BEGIN:STANDARD
TZOFFSETFROM:+0200
TZOFFSETTO:+0100
TZNAME:CET
DTSTART:20151025T010000
END:STANDARD
END:VTIMEZONE
BEGIN:VEVENT
DTSTART;TZID=Europe/Berlin:20150905T100000
DTEND;TZID=Europe/Berlin:20150905T160000
DTSTAMP:20260420T110521
CREATED:20150630T115546Z
LAST-MODIFIED:20150630T115546Z
UID:870-1441447200-1441468800@www.marktapotheke-alzey.de
SUMMARY:"Volle Tüte günstig!"
DESCRIPTION:Machen Sie Ihren Einkauf bei uns zu Ihrem persönlichen Shopping-Erlebnis! \nHolen Sie sich unsere Aktionstüte ab und kaufe Sie alles\, was aus dem Salbstbedienungssortiment in diese Tüte passt mit einem einmaligen Aktionsrabatt von 20 % (Kosmetik\, Vitamine\, Körperpflege etc. ( Nur eine Tüte pro Person und Einkauf einsetzbar. Gültig nur am 5.September von 8-16 Uhr )
URL:https://www.marktapotheke-alzey.de/veranstaltungstermin/volle-tuete-guenstig
LOCATION:Markt-Apotheke\, Antoniterstraße 2\, Alzey\, Rheinland-Pfalz\, 55232 \, Deutschland
ORGANIZER;CN="Marktapotheke":MAILTO:markt-apotheke@gmx.de
END:VEVENT
END:VCALENDAR