BEGIN:VCALENDAR
VERSION:2.0
PRODID:-//Marktapotheke Alzey - ECPv5.3.1.1//NONSGML v1.0//EN
CALSCALE:GREGORIAN
METHOD:PUBLISH
X-WR-CALNAME:Marktapotheke Alzey
X-ORIGINAL-URL:https://www.marktapotheke-alzey.de
X-WR-CALDESC:Veranstaltungen für Marktapotheke Alzey
BEGIN:VTIMEZONE
TZID:Europe/Berlin
BEGIN:DAYLIGHT
TZOFFSETFROM:+0100
TZOFFSETTO:+0200
TZNAME:CEST
DTSTART:20160327T010000
END:DAYLIGHT
BEGIN:STANDARD
TZOFFSETFROM:+0200
TZOFFSETTO:+0100
TZNAME:CET
DTSTART:20161030T010000
END:STANDARD
END:VTIMEZONE
BEGIN:VEVENT
DTSTART;TZID=Europe/Berlin:20161010T100000
DTEND;TZID=Europe/Berlin:20161021T160000
DTSTAMP:20260422T111304
CREATED:20160330T115030Z
LAST-MODIFIED:20160929T135741Z
UID:1128-1476093600-1477065600@www.marktapotheke-alzey.de
SUMMARY:"Können Sie Ihrem Blutzuckermessgerät noch trauen?
DESCRIPTION:Ihr Blutzuckermessgerät ist wie ein kleiner “Computer”. Ab dem 3.Gebrauchsjahr können Ungenauigkeiten auftreten – glanz gleich\, ob Sie es 5 mal täglich oder einmal wöchentlich benutzen. Mit geeigneten\, gerätespezifischen Testlösungen können Sie zwar die Genauigkeit selbst testen – Sie können jedoch auch unser Aktionsangebot wahrnehmen und gegen eine Schutzgebühr von 9\,-€ ein neues Accucheck Aviva Meßgerät inclusive 10 Teststreifen\, Tasche und Stechhilfe tauschen. Bringen Sie einfach Ihr altes Gerät mit – egal von welchem Hersteller! \nHaben Sie noch Fragen zur Handhabung? Wir beraten Sie und helfen Ihnen gern.
URL:https://www.marktapotheke-alzey.de/veranstaltungstermin/sonnen-ohne-reue-hautberatungstage-mit-melaninbestimmung
LOCATION:Markt-Apotheke\, Antoniterstraße 2\, Alzey\, Rheinland-Pfalz\, 55232 \, Deutschland
ORGANIZER;CN="Marktapotheke":MAILTO:markt-apotheke@gmx.de
END:VEVENT
END:VCALENDAR