BEGIN:VCALENDAR
VERSION:2.0
PRODID:-//Marktapotheke Alzey - ECPv5.3.1.1//NONSGML v1.0//EN
CALSCALE:GREGORIAN
METHOD:PUBLISH
X-WR-CALNAME:Marktapotheke Alzey
X-ORIGINAL-URL:https://www.marktapotheke-alzey.de
X-WR-CALDESC:Veranstaltungen für Marktapotheke Alzey
BEGIN:VTIMEZONE
TZID:Europe/Berlin
BEGIN:DAYLIGHT
TZOFFSETFROM:+0100
TZOFFSETTO:+0200
TZNAME:CEST
DTSTART:20150329T010000
END:DAYLIGHT
BEGIN:STANDARD
TZOFFSETFROM:+0200
TZOFFSETTO:+0100
TZNAME:CET
DTSTART:20151025T010000
END:STANDARD
END:VTIMEZONE
BEGIN:VEVENT
DTSTART;TZID=Europe/Berlin:20150714T190000
DTEND;TZID=Europe/Berlin:20150714T210000
DTSTAMP:20260422T123728
CREATED:20150630T111806Z
LAST-MODIFIED:20150630T111806Z
UID:864-1436900400-1436907600@www.marktapotheke-alzey.de
SUMMARY:"Schlank und fit mit Schüßler-Salzen"
DESCRIPTION:mit Heilpraktikerin Christa Joschko-Huber. \nDie “Funktionsmittel” genannten Mineralsalze wirken nach der Lehre von Dr. Schüßler direkt auf den Mineralstoffhaushalt der Zellen. Sie regulieren die Nährstoffversorgung und regen die Selbstheilungskräfte an. Dr. Schüßler war überzeugt: Übergewicht entsteht\, weil die Mineralstoff-Balance der Zellen gestört ist. Erleben sie die Faszination der Schüßler-Salze in einem spannenden Vortrag mit einer erfahrenen Heilpraktikerin. \nLassen Sie sich rechtzeitig einen Platz reservieren\, da unsere Vorträge erfahrungsgemäß rasch ausgebucht sind!
URL:https://www.marktapotheke-alzey.de/veranstaltungstermin/schlank-und-fit-mit-schuessler-salzen
LOCATION:Markt-Apotheke\, Antoniterstraße 2\, Alzey\, Rheinland-Pfalz\, 55232 \, Deutschland
ORGANIZER;CN="Marktapotheke":MAILTO:markt-apotheke@gmx.de
END:VEVENT
END:VCALENDAR