BEGIN:VCALENDAR
VERSION:2.0
PRODID:-//Marktapotheke Alzey - ECPv5.3.1.1//NONSGML v1.0//EN
CALSCALE:GREGORIAN
METHOD:PUBLISH
X-WR-CALNAME:Marktapotheke Alzey
X-ORIGINAL-URL:https://www.marktapotheke-alzey.de
X-WR-CALDESC:Veranstaltungen für Marktapotheke Alzey
BEGIN:VTIMEZONE
TZID:Europe/Berlin
BEGIN:DAYLIGHT
TZOFFSETFROM:+0100
TZOFFSETTO:+0200
TZNAME:CEST
DTSTART:20140330T010000
END:DAYLIGHT
BEGIN:STANDARD
TZOFFSETFROM:+0200
TZOFFSETTO:+0100
TZNAME:CET
DTSTART:20141026T010000
END:STANDARD
END:VTIMEZONE
BEGIN:VEVENT
DTSTART;VALUE=DATE:20141224
DTEND;VALUE=DATE:20141225
DTSTAMP:20260420T124538
CREATED:20141017T090901Z
LAST-MODIFIED:20141017T090901Z
UID:406-1419379200-1419465599@www.marktapotheke-alzey.de
SUMMARY:LETZTER TAG: Gesundheit\, Schönheit\, Wohlbefinden…
DESCRIPTION:01. – 24. Dezember 2014\nGesundheit\, Schönheit\, Wohlbefinden… bei uns finden Sie die Geschenke\nIn der Markt-Apotheke können Sie ganz in Ruhe und ohne Hektik die passenden Geschenke für Gesundheit und Wohlbefinden Ihrer Lieben aussuchen. Natürlich verpacken wir jedes Geschenk liebevoll und individuell. \nKommen Sie und sehen Sie\, was unsere Chefin auf den Messen für Sie eingekauft hat! Oder verschenken Sie doch einmal einen Geschenkgutschein aus unserem BeautyPharm-Institut oder einen Gutschein für eine Haar-Mineral-Analyse.
URL:https://www.marktapotheke-alzey.de/veranstaltungstermin/letzter-tag-gesundheit-schoenheit-wohlbefinden
LOCATION:Markt-Apotheke\, Antoniterstraße 2\, Alzey\, Rheinland-Pfalz\, 55232 \, Deutschland
CATEGORIES:Aktion
ORGANIZER;CN="Marktapotheke":MAILTO:markt-apotheke@gmx.de
END:VEVENT
END:VCALENDAR