BEGIN:VCALENDAR
VERSION:2.0
PRODID:-//Marktapotheke Alzey - ECPv5.3.1.1//NONSGML v1.0//EN
CALSCALE:GREGORIAN
METHOD:PUBLISH
X-WR-CALNAME:Marktapotheke Alzey
X-ORIGINAL-URL:https://www.marktapotheke-alzey.de
X-WR-CALDESC:Veranstaltungen für Marktapotheke Alzey
BEGIN:VTIMEZONE
TZID:Europe/Berlin
BEGIN:DAYLIGHT
TZOFFSETFROM:+0100
TZOFFSETTO:+0200
TZNAME:CEST
DTSTART:20160327T010000
END:DAYLIGHT
BEGIN:STANDARD
TZOFFSETFROM:+0200
TZOFFSETTO:+0100
TZNAME:CET
DTSTART:20161030T010000
END:STANDARD
END:VTIMEZONE
BEGIN:VEVENT
DTSTART;VALUE=DATE:20160118
DTEND;VALUE=DATE:20160124
DTSTAMP:20260422T110829
CREATED:20151229T140955Z
LAST-MODIFIED:20151229T140955Z
UID:973-1453075200-1453593599@www.marktapotheke-alzey.de
SUMMARY:Aktionswoche: Jetzt die Abwehrkräfte stärken!
DESCRIPTION:Winterliche Kälte\, Nässe und Lichtmangel verlangen dem Organismus eine Menge ab! Da selbst gesunde Ernährung nicht immer reicht\, um den erhöhten Bedarf abzudecken\, haben wir für Sie eine Palette von Tipps und Empfehlungen zusammengestellt\, mit deren Hilfe Sie sich besser versorgen und Erkältungen vorbeugen können. Entdecken Sie die Orthomolekulare Versorgung\, Schüßler Salze\, und biologische Unterstützung über das Immunsystem Darm. \nWährend der Aktionswoche halten wir für Sie eine Probe aus unserem Orthomol-Sortiment bereit! \nSie sind herzlich eingeladen\, denn wir wollen\, dass Sie gut durch den Winter kommen!
URL:https://www.marktapotheke-alzey.de/veranstaltungstermin/aktionswoche-jetzt-die-abwehrkraefte-staerken
LOCATION:Markt-Apotheke\, Antoniterstraße 2\, Alzey\, Rheinland-Pfalz\, 55232 \, Deutschland
ORGANIZER;CN="Marktapotheke":MAILTO:markt-apotheke@gmx.de
END:VEVENT
END:VCALENDAR